BEGIN:VCALENDAR
VERSION:2.0
PRODID:-//Seniors Helping Seniors: Greater Boston &amp; Metrowest - ECPv6.15.20//NONSGML v1.0//EN
CALSCALE:GREGORIAN
METHOD:PUBLISH
X-ORIGINAL-URL:https://shsboston.com
X-WR-CALDESC:Events for Seniors Helping Seniors: Greater Boston &amp; Metrowest
REFRESH-INTERVAL;VALUE=DURATION:PT1H
X-Robots-Tag:noindex
X-PUBLISHED-TTL:PT1H
BEGIN:VTIMEZONE
TZID:America/New_York
BEGIN:DAYLIGHT
TZOFFSETFROM:-0500
TZOFFSETTO:-0400
TZNAME:EDT
DTSTART:20250309T070000
END:DAYLIGHT
BEGIN:STANDARD
TZOFFSETFROM:-0400
TZOFFSETTO:-0500
TZNAME:EST
DTSTART:20251102T060000
END:STANDARD
BEGIN:DAYLIGHT
TZOFFSETFROM:-0500
TZOFFSETTO:-0400
TZNAME:EDT
DTSTART:20260308T070000
END:DAYLIGHT
BEGIN:STANDARD
TZOFFSETFROM:-0400
TZOFFSETTO:-0500
TZNAME:EST
DTSTART:20261101T060000
END:STANDARD
BEGIN:DAYLIGHT
TZOFFSETFROM:-0500
TZOFFSETTO:-0400
TZNAME:EDT
DTSTART:20270314T070000
END:DAYLIGHT
BEGIN:STANDARD
TZOFFSETFROM:-0400
TZOFFSETTO:-0500
TZNAME:EST
DTSTART:20271107T060000
END:STANDARD
END:VTIMEZONE
BEGIN:VEVENT
DTSTART;TZID=America/New_York:20260422T073000
DTEND;TZID=America/New_York:20260422T163000
DTSTAMP:20260424T065156
CREATED:20260204T144333Z
LAST-MODIFIED:20260204T144333Z
UID:6830-1776843000-1776875400@shsboston.com
SUMMARY:Essential Skills for Dementia Care (For SHS Caregivers)
DESCRIPTION:Presented by Tammy Pozerycki\, Care Manager and Dementia Educator with Clear Guidance\, Essential Skills for Dementia Care (ESDC) results in proven competence\, self-empowerment\, and accountability of best practices for the delivery of memory care services. ESDC is approved and accredited through the National Institute for Dementia Education (NIDE). Educating and credentialing caregivers reinforces Seniors Helping Seniors’ mission to provide dignified\, respectful\, and high-quality care. Attendees will achieve the highest level of dementia education and hands-on training for which they must prove competency. Eligible caregivers will become Certified Dementia Care Partners. The outcome is delivering the most successful and meaningful care possible for your clients with dementia. \nEligible attendees for credentialing must have a minimum of 1 year experience of providing dementia-related care and receive a passing score on the exam. The Certificate of Attendance and credentials as a Certified Dementia Care Partner™ will be delivered shortly after seminar completion. Caregivers who attend for the education and do not wish to receive the credentials will be provided with a Certificate of Attendance and do not need to complete the exam. All attendees will receive the ESDC handbook; morning coffee\, lunch\, and break refreshments will be provided. \nEvent Schedule: \n\n7:30 AM Registration and Coffee\n8:00 AM ESDC curriculum\n10:00-10:15 AM Break\n10:15-Noon ESDC curriculum\n12:00-12:30 PM Lunch\n12:30-2:00 PM ESDC curriculum\n2:00-2:15 PM Break\n2:15-4:00 PM ESDC curriculum\n4:00-4:30 PM Competency test & evaluation\n\n  \nRSVP required by Wednesday\, April 15.
URL:https://shsboston.com/event/essential-skills-for-dementia-care-for-shs-caregivers-4/
LOCATION:Seniors Helping Seniors\, 60 Hickory Drive Suite 2000\, Waltham\, MA\, 02451\, United States
END:VEVENT
END:VCALENDAR