BEGIN:VCALENDAR
VERSION:2.0
PRODID:-//Seniors Helping Seniors: Greater Boston &amp; Metrowest - ECPv6.15.20//NONSGML v1.0//EN
CALSCALE:GREGORIAN
METHOD:PUBLISH
X-WR-CALNAME:Seniors Helping Seniors: Greater Boston &amp; Metrowest
X-ORIGINAL-URL:https://shsboston.com
X-WR-CALDESC:Events for Seniors Helping Seniors: Greater Boston &amp; Metrowest
REFRESH-INTERVAL;VALUE=DURATION:PT1H
X-Robots-Tag:noindex
X-PUBLISHED-TTL:PT1H
BEGIN:VTIMEZONE
TZID:America/New_York
BEGIN:DAYLIGHT
TZOFFSETFROM:-0500
TZOFFSETTO:-0400
TZNAME:EDT
DTSTART:20240310T070000
END:DAYLIGHT
BEGIN:STANDARD
TZOFFSETFROM:-0400
TZOFFSETTO:-0500
TZNAME:EST
DTSTART:20241103T060000
END:STANDARD
BEGIN:DAYLIGHT
TZOFFSETFROM:-0500
TZOFFSETTO:-0400
TZNAME:EDT
DTSTART:20250309T070000
END:DAYLIGHT
BEGIN:STANDARD
TZOFFSETFROM:-0400
TZOFFSETTO:-0500
TZNAME:EST
DTSTART:20251102T060000
END:STANDARD
BEGIN:DAYLIGHT
TZOFFSETFROM:-0500
TZOFFSETTO:-0400
TZNAME:EDT
DTSTART:20260308T070000
END:DAYLIGHT
BEGIN:STANDARD
TZOFFSETFROM:-0400
TZOFFSETTO:-0500
TZNAME:EST
DTSTART:20261101T060000
END:STANDARD
END:VTIMEZONE
BEGIN:VEVENT
DTSTART;TZID=America/New_York:20250904T160000
DTEND;TZID=America/New_York:20250904T170000
DTSTAMP:20260425T001032
CREATED:20250822T135820Z
LAST-MODIFIED:20250822T140153Z
UID:6003-1757001600-1757005200@shsboston.com
SUMMARY:Day Trippers Info Session
DESCRIPTION:In this informational session\, learn more about Day Trippers\, our new\, first-of-its-kind program offering that blends Seniors Helping Seniors companion care model with a new opportunity to engage with peers in their community\, in a structured and casual setting. This is a perfect option for those living with early stage dementia.\n  \nPlease register by Tuesday\, September 2 to receive the Zoom link.
URL:https://shsboston.com/event/day-trippers-info-session-3/
LOCATION:Zoom Meeting
END:VEVENT
BEGIN:VEVENT
DTSTART;TZID=America/New_York:20250916T190000
DTEND;TZID=America/New_York:20250916T203000
DTSTAMP:20260425T001032
CREATED:20250605T142615Z
LAST-MODIFIED:20250605T142615Z
UID:5726-1758049200-1758054600@shsboston.com
SUMMARY:Family Support Group - Online via Zoom
DESCRIPTION:This informal facilitated support group\, open to family members caring for a loved one\, will allow you to share openly about your current caregiving challenges in a confidential and safe environment.  The support group meets monthly via Zoom. All those who RSVP will be sent the Zoom link on the morning of the support group meeting date. \nPlease register by Monday\, September 15 to receive the Zoom link.
URL:https://shsboston.com/event/family-support-group-online-via-zoom-19/
LOCATION:Zoom Meeting
END:VEVENT
BEGIN:VEVENT
DTSTART;TZID=America/New_York:20250930T180000
DTEND;TZID=America/New_York:20250930T191500
DTSTAMP:20260425T001032
CREATED:20250605T143250Z
LAST-MODIFIED:20250605T143250Z
UID:5736-1759255200-1759259700@shsboston.com
SUMMARY:Caregiver Support Group for SHS Employees
DESCRIPTION:As caregivers\, we are often faced with challenging and emotional situations where some support from our peers can make a big difference. In the spirit of self-care\, we have a Caregiver Support Group to provide an opportunity for SHS caregivers to share (or just listen) to each other in a positive and supportive environment. The group is facilitated by SHS Client Care Specialist Sue Ann Wasserman.\n\nPlease register for this event by Sunday\, September 28.
URL:https://shsboston.com/event/caregiver-support-group-for-shs-employees-38/
LOCATION:Seniors Helping Seniors\, 60 Hickory Drive Suite 2000\, Waltham\, MA\, 02451\, United States
END:VEVENT
END:VCALENDAR