BEGIN:VCALENDAR
VERSION:2.0
PRODID:-//Seniors Helping Seniors: Greater Boston &amp; Metrowest - ECPv6.15.20//NONSGML v1.0//EN
CALSCALE:GREGORIAN
METHOD:PUBLISH
X-WR-CALNAME:Seniors Helping Seniors: Greater Boston &amp; Metrowest
X-ORIGINAL-URL:https://shsboston.com
X-WR-CALDESC:Events for Seniors Helping Seniors: Greater Boston &amp; Metrowest
REFRESH-INTERVAL;VALUE=DURATION:PT1H
X-Robots-Tag:noindex
X-PUBLISHED-TTL:PT1H
BEGIN:VTIMEZONE
TZID:America/New_York
BEGIN:DAYLIGHT
TZOFFSETFROM:-0500
TZOFFSETTO:-0400
TZNAME:EDT
DTSTART:20240310T070000
END:DAYLIGHT
BEGIN:STANDARD
TZOFFSETFROM:-0400
TZOFFSETTO:-0500
TZNAME:EST
DTSTART:20241103T060000
END:STANDARD
BEGIN:DAYLIGHT
TZOFFSETFROM:-0500
TZOFFSETTO:-0400
TZNAME:EDT
DTSTART:20250309T070000
END:DAYLIGHT
BEGIN:STANDARD
TZOFFSETFROM:-0400
TZOFFSETTO:-0500
TZNAME:EST
DTSTART:20251102T060000
END:STANDARD
BEGIN:DAYLIGHT
TZOFFSETFROM:-0500
TZOFFSETTO:-0400
TZNAME:EDT
DTSTART:20260308T070000
END:DAYLIGHT
BEGIN:STANDARD
TZOFFSETFROM:-0400
TZOFFSETTO:-0500
TZNAME:EST
DTSTART:20261101T060000
END:STANDARD
END:VTIMEZONE
BEGIN:VEVENT
DTSTART;TZID=America/New_York:20251103T160000
DTEND;TZID=America/New_York:20251103T170000
DTSTAMP:20260424T065316
CREATED:20250812T201915Z
LAST-MODIFIED:20250813T122226Z
UID:5973-1762185600-1762189200@shsboston.com
SUMMARY:Fraud Safety Workshop
DESCRIPTION:Would you like to learn how to avoid being scammed? In this workshop\, you will learn actions you can take and resources that are available to help you avoid becoming a victim of fraud. The workshop will be presented by Evan Diamond\, Vice President\, Financial Education Specialist\, Cambridge Savings Bank. \nPlease register for this event by Thursday\, October 30 to receive the Zoom link.
URL:https://shsboston.com/event/fraud-safety-workshop-for-shs-employees/
LOCATION:Zoom Meeting
END:VEVENT
BEGIN:VEVENT
DTSTART;TZID=America/New_York:20251105T180000
DTEND;TZID=America/New_York:20251105T191500
DTSTAMP:20260424T065316
CREATED:20251009T175624Z
LAST-MODIFIED:20251009T175624Z
UID:6220-1762365600-1762370100@shsboston.com
SUMMARY:Planning Ahead: Smart Financial\, Legal & Care Moves for Seniors & Families
DESCRIPTION:As we age\, planning for the future becomes increasingly important—not only for ourselves\, but also for our loved ones. This interactive panel discussion brings together financial\, legal\, and elder care experts to provide seniors and their families with the knowledge and tools they need to make informed decisions. \nOur panelists will explore financial planning strategies to help prepare for the costs of long-term care\, including options for funding home care\, assisted living\, and nursing support. They will also cover estate planning essentials\, from wills and trusts to healthcare directives\, focusing on ways to preserve and protect assets while ensuring peace of mind for the future. \nAttendees will gain practical insights into how to safeguard their financial security\, plan for changing care needs\, and address legal considerations before they become urgent. Whether you are planning for yourself or supporting a loved one\, this session will provide valuable guidance and actionable steps to help you navigate the journey ahead with confidence. \nMeet Our Panelists: \nNicole A. Woodward-Kennedy\, Esq. – Lead Elder Law Attorney at O’Connell Law LLC\, specializing in Medicaid planning\, estate planning\, and probate and estate administration. \nJen Peterson – Long-Term Care Planner at O’Connell Law\, helping families navigate care options\, benefits\, and long-term care decisions. \nGary Shilman – Financial Advisor at Edward Jones\, supporting individuals and families with customized\, straightforward wealth strategies and guidance through life’s major transitions. \nLight refreshments will be provided.
URL:https://shsboston.com/event/planning-ahead-smart-financial-legal-care-moves-for-seniors-families/
LOCATION:Seniors Helping Seniors\, 60 Hickory Drive Suite 2000\, Waltham\, MA\, 02451\, United States
END:VEVENT
BEGIN:VEVENT
DTSTART;TZID=America/New_York:20251110T160000
DTEND;TZID=America/New_York:20251110T180000
DTSTAMP:20260424T065316
CREATED:20250814T180427Z
LAST-MODIFIED:20251107T143727Z
UID:5986-1762790400-1762797600@shsboston.com
SUMMARY:Modern Pronouns: They is Correct (For SHS Caregivers)
DESCRIPTION:Using “they and them” in the singular may seem to go against what you learned about grammar in grade school\, but you’ve probably been noticing a lot of people using the pronouns they/them instead of he/him or she/her… so many people that Massachusetts now offers M\, F\, and X gender markers on driver’s licenses\, and terms such as nonbinary and genderfluid have made it into mainstream media. Wondering what it all means? Would you like to learn more about how using affirming language and pronouns can help you create a more inclusive community? Join us at the SHS Office for a talk by Julie Nowak (she/any)\, LGBTQIA+ Initiative Coordinator for Springwell elder services. Questions are warmly welcome throughout the presentation/conversation.\n \nPlease register for this event by Thursday\, November 6th.
URL:https://shsboston.com/event/modern-pronouns-they-is-correct-for-shs-caregivers-2/
LOCATION:Seniors Helping Seniors\, 60 Hickory Drive Suite 2000\, Waltham\, MA\, 02451\, United States
END:VEVENT
BEGIN:VEVENT
DTSTART;TZID=America/New_York:20251118T180000
DTEND;TZID=America/New_York:20251118T191500
DTSTAMP:20260424T065316
CREATED:20250904T190301Z
LAST-MODIFIED:20250904T190301Z
UID:6044-1763488800-1763493300@shsboston.com
SUMMARY:Caregiver Support Group for SHS Employees
DESCRIPTION:As caregivers\, we are often faced with challenging and emotional situations where some support from our peers can make a big difference. In the spirit of self-care\, we have a Caregiver Support Group to provide an opportunity for SHS caregivers to share (or just listen) to each other in a positive and supportive environment. The group is facilitated by SHS Client Care Specialist Sue Ann Wasserman.\n\nPlease register for this event by Sunday\, November 16.
URL:https://shsboston.com/event/caregiver-support-group-for-shs-employees-40/
LOCATION:Zoom Meeting
END:VEVENT
BEGIN:VEVENT
DTSTART;TZID=America/New_York:20251118T190000
DTEND;TZID=America/New_York:20251118T203000
DTSTAMP:20260424T065316
CREATED:20250904T185733Z
LAST-MODIFIED:20250904T185733Z
UID:6035-1763492400-1763497800@shsboston.com
SUMMARY:Family Support Group - Online via Zoom
DESCRIPTION:This informal facilitated support group\, open to family members caring for a loved one\, will allow you to share openly about your current caregiving challenges in a confidential and safe environment.  The support group meets monthly via Zoom. All those who RSVP will be sent the Zoom link on the morning of the support group meeting date. \nPlease register by Monday\, November 17 to receive the Zoom link.
URL:https://shsboston.com/event/family-support-group-online-via-zoom-21/
LOCATION:Zoom Meeting
END:VEVENT
BEGIN:VEVENT
DTSTART;TZID=America/New_York:20251127T160000
DTEND;TZID=America/New_York:20251127T170000
DTSTAMP:20260424T065316
CREATED:20251119T142907Z
LAST-MODIFIED:20251119T142907Z
UID:6494-1764259200-1764262800@shsboston.com
SUMMARY:Day Trippers Info Session
DESCRIPTION:In this virtual informational session\, learn more about Day Trippers\, our new\, first-of-its-kind program offering that blends Seniors Helping Seniors companion care model with a new opportunity to engage with peers in their community\, in a structured and casual setting. This is a perfect option for those living with early stage dementia. \nPlease RSVP by November 26th to receive the zoom link.
URL:https://shsboston.com/event/day-trippers-info-session-5/
LOCATION:Zoom Meeting
END:VEVENT
END:VCALENDAR