BEGIN:VCALENDAR
VERSION:2.0
PRODID:-//Seniors Helping Seniors: Greater Boston &amp; Metrowest - ECPv6.15.20//NONSGML v1.0//EN
CALSCALE:GREGORIAN
METHOD:PUBLISH
X-ORIGINAL-URL:https://shsboston.com
X-WR-CALDESC:Events for Seniors Helping Seniors: Greater Boston &amp; Metrowest
REFRESH-INTERVAL;VALUE=DURATION:PT1H
X-Robots-Tag:noindex
X-PUBLISHED-TTL:PT1H
BEGIN:VTIMEZONE
TZID:America/New_York
BEGIN:DAYLIGHT
TZOFFSETFROM:-0500
TZOFFSETTO:-0400
TZNAME:EDT
DTSTART:20250309T070000
END:DAYLIGHT
BEGIN:STANDARD
TZOFFSETFROM:-0400
TZOFFSETTO:-0500
TZNAME:EST
DTSTART:20251102T060000
END:STANDARD
BEGIN:DAYLIGHT
TZOFFSETFROM:-0500
TZOFFSETTO:-0400
TZNAME:EDT
DTSTART:20260308T070000
END:DAYLIGHT
BEGIN:STANDARD
TZOFFSETFROM:-0400
TZOFFSETTO:-0500
TZNAME:EST
DTSTART:20261101T060000
END:STANDARD
BEGIN:DAYLIGHT
TZOFFSETFROM:-0500
TZOFFSETTO:-0400
TZNAME:EDT
DTSTART:20270314T070000
END:DAYLIGHT
BEGIN:STANDARD
TZOFFSETFROM:-0400
TZOFFSETTO:-0500
TZNAME:EST
DTSTART:20271107T060000
END:STANDARD
END:VTIMEZONE
BEGIN:VEVENT
DTSTART;TZID=America/New_York:20260111T130000
DTEND;TZID=America/New_York:20260111T150000
DTSTAMP:20260424T065232
CREATED:20251210T192450Z
LAST-MODIFIED:20251217T151701Z
UID:6607-1768136400-1768143600@shsboston.com
SUMMARY:Team Bowling for SHS Caregivers
DESCRIPTION:Come join your SHS colleagues for a fun afternoon of bowling at the Acton Bowladrome & Arcade. Seniors Helping Seniors will cover the cost of bowling\, pizza/beverage. \nPlease register for this event by Friday\, January 2.
URL:https://shsboston.com/event/team-bowling-for-shs-caregivers-3/
LOCATION:Acton Bowladrome & Arcade\, 257 Main Street\, Acton\, MA
END:VEVENT
BEGIN:VEVENT
DTSTART;TZID=America/New_York:20260120T190000
DTEND;TZID=America/New_York:20260120T203000
DTSTAMP:20260424T065232
CREATED:20251209T211949Z
LAST-MODIFIED:20251209T211949Z
UID:6586-1768935600-1768941000@shsboston.com
SUMMARY:Family Support Group - Online via Zoom
DESCRIPTION:This informal facilitated support group\, open to family members caring for a loved one\, will allow you to share openly about your current caregiving challenges in a confidential and safe environment. The support group meets monthly via Zoom. All those who RSVP will be sent the Zoom link on the morning of the support group meeting date. \nPlease register by Monday\, January 19 to receive the Zoom link.
URL:https://shsboston.com/event/family-support-group-online-via-zoom-25/
LOCATION:MA
END:VEVENT
BEGIN:VEVENT
DTSTART;TZID=America/New_York:20260127T180000
DTEND;TZID=America/New_York:20260127T193000
DTSTAMP:20260424T065232
CREATED:20251210T173317Z
LAST-MODIFIED:20251210T173317Z
UID:6594-1769536800-1769542200@shsboston.com
SUMMARY:Caregiver Support Group via Zoom
DESCRIPTION:As caregivers\, we are often faced with challenging and emotional situations where some support from our peers can make a big difference. In the spirit of self-care\, we have a Caregiver Support Group to provide an opportunity for SHS caregivers to share (or just listen) to each other in a positive and supportive environment. The group is facilitated by SHS Client Care Specialist Sue Ann Wasserman.
URL:https://shsboston.com/event/caregiver-support-group-via-zoom/
LOCATION:MA
END:VEVENT
BEGIN:VEVENT
DTSTART;TZID=America/New_York:20260129T180000
DTEND;TZID=America/New_York:20260129T193000
DTSTAMP:20260424T065232
CREATED:20260106T211422Z
LAST-MODIFIED:20260106T211422Z
UID:6660-1769709600-1769715000@shsboston.com
SUMMARY:Brass Ring Memoirs
DESCRIPTION:Presented by: Kelly McCarthy\, VP of Resident Engagement and Memory Care Services Northbridge Companies \nJoin us for an evening of Alzheimer’s and dementia education. Kelly McCarthy will present on her book\, Brass Ring Memoirs\, and talk about the importance of a person-centered approach to care. \nAll attendees will receive a copy of Brass Ring Memoirs! \nRSVP by Monday\, January 26th 2026.
URL:https://shsboston.com/event/brass-ring-memoirs/
LOCATION:Seniors Helping Seniors\, 60 Hickory Drive Suite 2000\, Waltham\, MA\, 02451\, United States
END:VEVENT
END:VCALENDAR