BEGIN:VCALENDAR
VERSION:2.0
PRODID:-//Seniors Helping Seniors: Greater Boston &amp; Metrowest - ECPv6.15.20//NONSGML v1.0//EN
CALSCALE:GREGORIAN
METHOD:PUBLISH
X-WR-CALNAME:Seniors Helping Seniors: Greater Boston &amp; Metrowest
X-ORIGINAL-URL:https://shsboston.com
X-WR-CALDESC:Events for Seniors Helping Seniors: Greater Boston &amp; Metrowest
REFRESH-INTERVAL;VALUE=DURATION:PT1H
X-Robots-Tag:noindex
X-PUBLISHED-TTL:PT1H
BEGIN:VTIMEZONE
TZID:America/New_York
BEGIN:DAYLIGHT
TZOFFSETFROM:-0500
TZOFFSETTO:-0400
TZNAME:EDT
DTSTART:20250309T070000
END:DAYLIGHT
BEGIN:STANDARD
TZOFFSETFROM:-0400
TZOFFSETTO:-0500
TZNAME:EST
DTSTART:20251102T060000
END:STANDARD
BEGIN:DAYLIGHT
TZOFFSETFROM:-0500
TZOFFSETTO:-0400
TZNAME:EDT
DTSTART:20260308T070000
END:DAYLIGHT
BEGIN:STANDARD
TZOFFSETFROM:-0400
TZOFFSETTO:-0500
TZNAME:EST
DTSTART:20261101T060000
END:STANDARD
BEGIN:DAYLIGHT
TZOFFSETFROM:-0500
TZOFFSETTO:-0400
TZNAME:EDT
DTSTART:20270314T070000
END:DAYLIGHT
BEGIN:STANDARD
TZOFFSETFROM:-0400
TZOFFSETTO:-0500
TZNAME:EST
DTSTART:20271107T060000
END:STANDARD
END:VTIMEZONE
BEGIN:VEVENT
DTSTART;TZID=America/New_York:20260302T160000
DTEND;TZID=America/New_York:20260302T173000
DTSTAMP:20260424T065220
CREATED:20260204T143059Z
LAST-MODIFIED:20260204T143059Z
UID:6827-1772467200-1772472600@shsboston.com
SUMMARY:Role Playing: Supporting Clients with Difficult Behaviors for SHS Caregivers
DESCRIPTION:Learn strategies and interventions to establish good communication resulting in meeting unmet needs and wants. This program encourages role play to learn the practice of Validation\, Empathy\, Fibleting\, and successful Redirection for people with dementia. Using this therapeutic non-truth technique can help reassure the client’s stressors and unmet needs. \nPlease RSVP by March 1st 
URL:https://shsboston.com/event/role-playing-supporting-clients-with-difficult-behaviors-for-shs-caregivers/
LOCATION:Seniors Helping Seniors\, 60 Hickory Drive Suite 2000\, Waltham\, MA\, 02451\, United States
END:VEVENT
BEGIN:VEVENT
DTSTART;TZID=America/New_York:20260317T190000
DTEND;TZID=America/New_York:20260317T203000
DTSTAMP:20260424T065220
CREATED:20251209T212351Z
LAST-MODIFIED:20251209T212351Z
UID:6592-1773774000-1773779400@shsboston.com
SUMMARY:Family Support Group - Online via Zoom
DESCRIPTION:This informal facilitated support group\, open to family members caring for a loved one\, will allow you to share openly about your current caregiving challenges in a confidential and safe environment.  The support group meets monthly via Zoom. All those who RSVP will be sent the Zoom link on the morning of the support group meeting date. \nPlease register by Monday\, March 16 to receive the Zoom link.
URL:https://shsboston.com/event/family-support-group-online-via-zoom-27/
LOCATION:MA
END:VEVENT
BEGIN:VEVENT
DTSTART;TZID=America/New_York:20260326T160000
DTEND;TZID=America/New_York:20260326T170000
DTSTAMP:20260424T065220
CREATED:20260318T164400Z
LAST-MODIFIED:20260318T164400Z
UID:6962-1774540800-1774544400@shsboston.com
SUMMARY:Day Trippers Info Session
DESCRIPTION:In this informational session\, learn more about Day Trippers\, our new\, first-of-its-kind program offering that blends Seniors Helping Seniors companion care model with a new opportunity to engage with peers in their community\, in a structured and casual setting. This is a perfect option for those living with early stage dementia.\n  \nPlease register by Wednesday March 25th to receive the Zoom link.
URL:https://shsboston.com/event/day-trippers-info-session-8/
LOCATION:Zoom Meeting
END:VEVENT
END:VCALENDAR